BEGIN:VCALENDAR
VERSION:2.0
PRODID:-//Boxing Tickets - ECPv6.15.20//NONSGML v1.0//EN
CALSCALE:GREGORIAN
METHOD:PUBLISH
X-ORIGINAL-URL:https://boxing-tickets.com
X-WR-CALDESC:Events for Boxing Tickets
REFRESH-INTERVAL;VALUE=DURATION:PT1H
X-Robots-Tag:noindex
X-PUBLISHED-TTL:PT1H
BEGIN:VTIMEZONE
TZID:UTC
BEGIN:STANDARD
TZOFFSETFROM:+0000
TZOFFSETTO:+0000
TZNAME:UTC
DTSTART:20240101T000000
END:STANDARD
END:VTIMEZONE
BEGIN:VEVENT
DTSTART;TZID=UTC:20250913T080000
DTEND;TZID=UTC:20260911T170000
DTSTAMP:20260424T094946
CREATED:20250815T094221Z
LAST-MODIFIED:20250825T123644Z
UID:80062-1757750400-1789146000@boxing-tickets.com
SUMMARY:Canelo Álvarez vs. Terence Crawford
DESCRIPTION:A colossal clash for the undisputed super middleweight crown at Allegiant Stadium in Las Vegas. Canelo defends his titles (WBA\, WBC\, IBF\, WBO\, The Ring) against the undefeated Crawford. This one’s already being billed as “Once In A Lifetime.”
URL:https://boxing-tickets.com/event/canelo-alvarez-vs-terence-crawford/
CATEGORIES:Championships
ORGANIZER;CN="Ashton Porter":MAILTO:info@example.com
END:VEVENT
BEGIN:VEVENT
DTSTART;VALUE=DATE:20251115
DTEND;VALUE=DATE:20251116
DTSTAMP:20260424T094946
CREATED:20251111T190203Z
LAST-MODIFIED:20251111T190723Z
UID:80155-1763164800-1763251199@boxing-tickets.com
SUMMARY:Chris Eubank Jr vs Conor Benn
DESCRIPTION:Big UK domestic super-middleweight/fight night
URL:https://boxing-tickets.com/event/chris-eubank-jr-vs-conor-benn/
LOCATION:Tottenham Hotspur Stadium\, London\, UK
END:VEVENT
BEGIN:VEVENT
DTSTART;VALUE=DATE:20251122
DTEND;VALUE=DATE:20251123
DTSTAMP:20260424T094946
CREATED:20251111T190413Z
LAST-MODIFIED:20251111T190747Z
UID:80157-1763769600-1763855999@boxing-tickets.com
SUMMARY:David Benavidez vs Anthony Yarde
DESCRIPTION:WBC light-heavyweight title fight
URL:https://boxing-tickets.com/event/david-benavidez-vs-anthony-yarde/
LOCATION:ANB Arena\, Riyadh\, Saudi Arabia
END:VEVENT
BEGIN:VEVENT
DTSTART;VALUE=DATE:20251129
DTEND;VALUE=DATE:20251130
DTSTAMP:20260424T094946
CREATED:20251111T190516Z
LAST-MODIFIED:20251111T190516Z
UID:80159-1764374400-1764460799@boxing-tickets.com
SUMMARY:Ben Whittaker vs Benjamin Gavazi
DESCRIPTION:UK regional fight card
URL:https://boxing-tickets.com/event/ben-whittaker-vs-benjamin-gavazi/
LOCATION:NEC\, Birmingham\, UK
END:VEVENT
BEGIN:VEVENT
DTSTART;VALUE=DATE:20251130
DTEND;VALUE=DATE:20251201
DTSTAMP:20260424T094946
CREATED:20251111T190932Z
LAST-MODIFIED:20251111T190932Z
UID:80166-1764460800-1764547199@boxing-tickets.com
SUMMARY:Constantin Ursu vs Ryan Amos
DESCRIPTION:Undercard / local card type
URL:https://boxing-tickets.com/event/constantin-ursu-vs-ryan-amos/
LOCATION:York Hall\, Bethnal Green\, London\, UK
END:VEVENT
BEGIN:VEVENT
DTSTART;VALUE=DATE:20251206
DTEND;VALUE=DATE:20251207
DTSTAMP:20260424T094946
CREATED:20251111T191026Z
LAST-MODIFIED:20251111T192412Z
UID:80169-1764979200-1765065599@boxing-tickets.com
SUMMARY:Isaac “Pitbull” Cruz vs Lamont Roach
DESCRIPTION:U.S. super-lightweight bout
URL:https://boxing-tickets.com/event/isaac-pitbull-cruz-vs-lamont-roach/
LOCATION:Frost Bank Center\, San Antonio\, Texas\, USA
END:VEVENT
BEGIN:VEVENT
DTSTART;VALUE=DATE:20251213
DTEND;VALUE=DATE:20251214
DTSTAMP:20260424T094946
CREATED:20251111T191115Z
LAST-MODIFIED:20251111T192434Z
UID:80172-1765584000-1765670399@boxing-tickets.com
SUMMARY:Diego Pacheco vs Kevin Lele Sadjo
DESCRIPTION:U.S. rising lightweight fight
URL:https://boxing-tickets.com/event/diego-pacheco-vs-kevin-lele-sadjo/
LOCATION:Stockton Arena\, California\, USA
END:VEVENT
BEGIN:VEVENT
DTSTART;VALUE=DATE:20251217
DTEND;VALUE=DATE:20251218
DTSTAMP:20260424T094946
CREATED:20251111T192225Z
LAST-MODIFIED:20251111T192447Z
UID:80189-1765929600-1766015999@boxing-tickets.com
SUMMARY:Visioli vs Howarth
DESCRIPTION:UK fight night venue
URL:https://boxing-tickets.com/event/visioli-vs-howarth/
LOCATION:The Indigo at The O2\, London\, UK
END:VEVENT
BEGIN:VEVENT
DTSTART;VALUE=DATE:20251219
DTEND;VALUE=DATE:20251220
DTSTAMP:20260424T094946
CREATED:20251117T134731Z
LAST-MODIFIED:20251117T134731Z
UID:80197-1766102400-1766188799@boxing-tickets.com
SUMMARY:Anthony Joshua vs Jake Paul
DESCRIPTION:Don’t Mis- Match. On Netflix.
URL:https://boxing-tickets.com/event/anthony-joshua-vs-jake-paul/
LOCATION:Miami and Netflix
END:VEVENT
BEGIN:VEVENT
DTSTART;VALUE=DATE:20251220
DTEND;VALUE=DATE:20251221
DTSTAMP:20260424T094946
CREATED:20251111T191202Z
LAST-MODIFIED:20251111T192526Z
UID:80175-1766188800-1766275199@boxing-tickets.com
SUMMARY:Derek Pomerleau vs Dylan Biggs
DESCRIPTION:Part of Riyadh boxing push
URL:https://boxing-tickets.com/event/derek-pomerleau-vs-dylan-biggs/
LOCATION:Riyadh\, Saudi Arabia
END:VEVENT
BEGIN:VEVENT
DTSTART;VALUE=DATE:20251220
DTEND;VALUE=DATE:20251221
DTSTAMP:20260424T094946
CREATED:20251111T191523Z
LAST-MODIFIED:20251111T191523Z
UID:80187-1766188800-1766275199@boxing-tickets.com
SUMMARY:Riyadh Season WBC Boxing Grand Prix – Final
DESCRIPTION:Finale of multi-phase tournament from April onwards
URL:https://boxing-tickets.com/event/riyadh-season-wbc-boxing-grand-prix-final/
LOCATION:Riyadh\, Saudi Arabia
END:VEVENT
BEGIN:VEVENT
DTSTART;VALUE=DATE:20251220
DTEND;VALUE=DATE:20251221
DTSTAMP:20260424T094946
CREATED:20251111T192337Z
LAST-MODIFIED:20251111T192337Z
UID:80192-1766188800-1766275199@boxing-tickets.com
SUMMARY:Richards vs Azeez
DESCRIPTION:International boxing in Ghana
URL:https://boxing-tickets.com/event/richards-vs-azeez/
LOCATION:Legon Sports Stadium\, Accra\, Ghana
END:VEVENT
BEGIN:VEVENT
DTSTART;VALUE=DATE:20251227
DTEND;VALUE=DATE:20251228
DTSTAMP:20260424T094946
CREATED:20251111T191243Z
LAST-MODIFIED:20251111T192551Z
UID:80178-1766793600-1766879999@boxing-tickets.com
SUMMARY:Naoya Inoue vs David Picasso
DESCRIPTION:Japanese star in Middle East event
URL:https://boxing-tickets.com/event/naoya-inoue-vs-david-picasso/
LOCATION:Mohammed Abdo Arena\, Riyadh\, Saudi Arabia
END:VEVENT
BEGIN:VEVENT
DTSTART;VALUE=DATE:20260117
DTEND;VALUE=DATE:20260118
DTSTAMP:20260424T094946
CREATED:20251111T191328Z
LAST-MODIFIED:20251111T192606Z
UID:80181-1768608000-1768694399@boxing-tickets.com
SUMMARY:Keith Thurman vs Sebastian Fundora
DESCRIPTION:High-profile U.S. fight night
URL:https://boxing-tickets.com/event/keith-thurman-vs-sebastian-fundora/
LOCATION:MGM Grand Garden Arena\, Las Vegas\, Nevada\, USA
END:VEVENT
BEGIN:VEVENT
DTSTART;VALUE=DATE:20260131
DTEND;VALUE=DATE:20260201
DTSTAMP:20260424T094946
CREATED:20251111T191434Z
LAST-MODIFIED:20251111T192618Z
UID:80184-1769817600-1769903999@boxing-tickets.com
SUMMARY:Jacob Bank vs William Scull
DESCRIPTION:European venue\, looks interesting
URL:https://boxing-tickets.com/event/jacob-bank-vs-william-scull/
LOCATION:Sydbank Arena\, Kolding\, Denmark
END:VEVENT
END:VCALENDAR